BEGIN:VCALENDAR
VERSION:2.0
PRODID:icalendar-ruby
CALSCALE:GREGORIAN
METHOD:PUBLISH
BEGIN:VEVENT
DTSTAMP:20260420T033308Z
UID:5-779352@covenantword.tithelysetup2.com
DTSTART:20260705T180000Z
DTEND:20260705T190000Z
CLASS:PUBLIC
CREATED:20260419T192526
DESCRIPTION:Sunday Worship
LAST-MODIFIED:20260419T192526
LOCATION:
SUMMARY:Sunday Worship
URL;VALUE=URI:https://covenantword.tithelysetup2.com/events/sunday-worship/
 2026-07-05
END:VEVENT
END:VCALENDAR
