BEGIN:VCALENDAR
VERSION:2.0
PRODID:icalendar-ruby
CALSCALE:GREGORIAN
METHOD:PUBLISH
BEGIN:VEVENT
DTSTAMP:20260420T045559Z
UID:5-779353@covenantword.tithelysetup2.com
DTSTART:20260712T180000Z
DTEND:20260712T190000Z
CLASS:PUBLIC
CREATED:20260419T192526
DESCRIPTION:Sunday Worship
LAST-MODIFIED:20260419T192526
LOCATION:
SUMMARY:Sunday Worship
URL;VALUE=URI:https://covenantword.tithelysetup2.com/events/sunday-worship/
 2026-07-12
END:VEVENT
END:VCALENDAR
