BEGIN:VCALENDAR
VERSION:2.0
PRODID:icalendar-ruby
CALSCALE:GREGORIAN
METHOD:PUBLISH
BEGIN:VEVENT
DTSTAMP:20260420T204353Z
UID:5-781258@covenantword.tithelysetup2.com
DTSTART:20260920T180000Z
DTEND:20260920T190000Z
CLASS:PUBLIC
CREATED:20260420T115141
DESCRIPTION:Sunday Worship
LAST-MODIFIED:20260420T115141
LOCATION:
SUMMARY:Sunday Worship
URL;VALUE=URI:https://covenantword.tithelysetup2.com/events/sunday-worship/
 2026-09-20
END:VEVENT
END:VCALENDAR
