BEGIN:VCALENDAR
VERSION:2.0
PRODID:icalendar-ruby
CALSCALE:GREGORIAN
METHOD:PUBLISH
BEGIN:VEVENT
DTSTAMP:20260420T222403Z
UID:5-781638@covenantword.tithelysetup2.com
DTSTART:20260927T180000Z
DTEND:20260927T190000Z
CLASS:PUBLIC
CREATED:20260420T142750
DESCRIPTION:Sunday Worship
LAST-MODIFIED:20260420T142750
LOCATION:
SUMMARY:Sunday Worship
URL;VALUE=URI:https://covenantword.tithelysetup2.com/events/sunday-worship/
 2026-09-27
END:VEVENT
END:VCALENDAR
