BEGIN:VCALENDAR
VERSION:2.0
PRODID:icalendar-ruby
CALSCALE:GREGORIAN
METHOD:PUBLISH
BEGIN:VEVENT
DTSTAMP:20260421T015507Z
UID:5-782019@covenantword.tithelysetup2.com
DTSTART:20261011T180000Z
DTEND:20261011T190000Z
CLASS:PUBLIC
CREATED:20260420T170249
DESCRIPTION:Sunday Worship
LAST-MODIFIED:20260420T170249
LOCATION:
SUMMARY:Sunday Worship
URL;VALUE=URI:https://covenantword.tithelysetup2.com/events/sunday-worship/
 2026-10-11
END:VEVENT
END:VCALENDAR
